BEGIN:VCALENDAR
VERSION:2.0
PRODID:-//wp-events-plugin.com//7.2.3.1//EN
TZID:Europe/Berlin
X-WR-TIMEZONE:Europe/Berlin
BEGIN:VEVENT
UID:62@klimapilgern.de
DTSTART;TZID=Europe/Berlin;VALUE=DATE:20250925
DTEND;TZID=Europe/Berlin;VALUE=DATE:20250926
DTSTAMP:20250626T131049Z
URL:https://www.klimapilgern.de/event/aktionstag-in-dresden/
SUMMARY:Aktionstag in Dresden
DESCRIPTION:
END:VEVENT
BEGIN:VTIMEZONE
TZID:Europe/Berlin
X-LIC-LOCATION:Europe/Berlin
BEGIN:DAYLIGHT
DTSTART:20250330T030000
TZOFFSETFROM:+0100
TZOFFSETTO:+0200
TZNAME:CEST
END:DAYLIGHT
END:VTIMEZONE
END:VCALENDAR